BEGIN:VCALENDAR
VERSION:2.0
PRODID:-//wp-events-plugin.com//7.2.3.1//EN
TZID:Europe/London
X-WR-TIMEZONE:Europe/London
BEGIN:VEVENT
UID:8@deeplypractices.co.uk
DTSTART;TZID=Europe/London:20240914T090000
DTEND;TZID=Europe/London:20240914T120000
DTSTAMP:20240830T094646Z
URL:https://deeplypractices.co.uk/events/yoga-breathwork-brunch-2/
SUMMARY:Yoga\, Breathwork & Brunch
DESCRIPTION:Join me for 2 hours of restorative Yoga and powerfully calming 
 Breathwork for a relaxing Saturday morning. Following the session brunch a
 nd coffee is available until 12pm\, where you can regroup\, refuel and mee
 t your fellow yogis.\n\nNote that your brunch\, lunch\, coffee or cake is 
 not included in the ticket price. You're welcome to stay after the yoga se
 ssion even if you prefer not to order food.\n\n(Suitable for all abilities
 . Please bring a bottle of water &amp\; a jumper/blanket for the breathwor
 k).\n\n&nbsp\;\n\n&nbsp\;
ATTACH;FMTTYPE=image/jpeg:https://deeplypractices.co.uk/wp-content/uploads
 /2024/01/Rustic-Minimal-Wedding-Print-Banner-1.png
CATEGORIES:Yoga,Yoga Breathwork &amp; Brunch
LOCATION:Sandy Lane Tearoom\, Unit 2 Whirley Quarry\, Sandy Ln\, Macclesfie
 ld\, Cheshire\,  SK10 4RJ\, United Kingdom
GEO:53.268113;-2.174177
X-APPLE-STRUCTURED-LOCATION;VALUE=URI;X-ADDRESS=Unit 2 Whirley Quarry\, San
 dy Ln\, Macclesfield\, Cheshire\,  SK10 4RJ\, United Kingdom;X-APPLE-RADIU
 S=100;X-TITLE=Sandy Lane Tearoom:geo:53.268113,-2.174177
END:VEVENT
BEGIN:VTIMEZONE
TZID:Europe/London
X-LIC-LOCATION:Europe/London
BEGIN:DAYLIGHT
DTSTART:20240331T020000
TZOFFSETFROM:+0000
TZOFFSETTO:+0100
TZNAME:BST
END:DAYLIGHT
END:VTIMEZONE
END:VCALENDAR