BEGIN:VCALENDAR
VERSION:2.0
PRODID:-//wp-events-plugin.com//7.2.3.1//EN
TZID:Europe/London
X-WR-TIMEZONE:Europe/London
BEGIN:VEVENT
UID:300@deeplypractices.co.uk
DTSTART;TZID=Europe/London:20251007T093000
DTEND;TZID=Europe/London:20251007T103000
DTSTAMP:20250428T154549Z
URL:https://deeplypractices.co.uk/events/tuesday-deeply-yoga-2025-10-07/
SUMMARY:Tuesday Deeply Yoga
DESCRIPTION:This is Yoga the Deeply way. A Hatha practice with mindful atte
 ntion where the emphasis is on reconnecting with the mind\, body and breat
 h through slow flowing postures that ground you. Tune in to your energy\, 
 acknowledge what's going on for you and release physical tension with anyt
 hing else that doesn't serve you. Session also includes guided grounding\,
  breathing practices and guided relaxation to support you in listening inw
 ard. Ideal for beginners and experienced students alike. All abilities wel
 come. You'll leave this session feeling calm and revitalised. 
ATTACH;FMTTYPE=image/jpeg:https://deeplypractices.co.uk/wp-content/uploads
 /2024/04/2.png
CATEGORIES:Classes,Yoga
LOCATION:Inglewood Studio\, 94 Lacey Green\, Wilmslow\, Cheshire\, SK9 4BN\
 , United Kingdom
GEO:53.337126;-2.226726
X-APPLE-STRUCTURED-LOCATION;VALUE=URI;X-ADDRESS=94 Lacey Green\, Wilmslow\,
  Cheshire\, SK9 4BN\, United Kingdom;X-APPLE-RADIUS=100;X-TITLE=Inglewood 
 Studio:geo:53.337126,-2.226726
END:VEVENT
BEGIN:VTIMEZONE
TZID:Europe/London
X-LIC-LOCATION:Europe/London
BEGIN:DAYLIGHT
DTSTART:20250330T020000
TZOFFSETFROM:+0000
TZOFFSETTO:+0100
TZNAME:BST
END:DAYLIGHT
END:VTIMEZONE
END:VCALENDAR