BEGIN:VCALENDAR
VERSION:2.0
PRODID:-//wp-events-plugin.com//7.2.3.1//EN
TZID:Europe/London
X-WR-TIMEZONE:Europe/London
BEGIN:VEVENT
UID:435@deeplypractices.co.uk
DTSTART;TZID=Europe/London:20260324T194500
DTEND;TZID=Europe/London:20260324T210000
DTSTAMP:20260325T134727Z
URL:https://deeplypractices.co.uk/events/prenatal-yoga-2026-03-24/
SUMMARY:Prenatal Yoga
DESCRIPTION:Prenatal Yoga: Empowered Practice for Motherhood\n\nNurture you
 r body\, mind\, and spirit during this sacred chapter of pregnancy.
ATTACH;FMTTYPE=image/jpeg:https://deeplypractices.co.uk/wp-content/uploads
 /2025/12/Event-posts-2.png
CATEGORIES:Classes,Prenatal
LOCATION:Inglewood Studio\, 94 Lacey Green\, Wilmslow\, Cheshire\, SK9 4BN\
 , United Kingdom
GEO:53.337126;-2.226726
X-APPLE-STRUCTURED-LOCATION;VALUE=URI;X-ADDRESS=94 Lacey Green\, Wilmslow\,
  Cheshire\, SK9 4BN\, United Kingdom;X-APPLE-RADIUS=100;X-TITLE=Inglewood 
 Studio:geo:53.337126,-2.226726
END:VEVENT
BEGIN:VTIMEZONE
TZID:Europe/London
X-LIC-LOCATION:Europe/London
BEGIN:STANDARD
DTSTART:20251026T010000
TZOFFSETFROM:+0100
TZOFFSETTO:+0000
TZNAME:GMT
END:STANDARD
END:VTIMEZONE
END:VCALENDAR