BEGIN:VCALENDAR
VERSION:2.0
PRODID:-//wp-events-plugin.com//7.2.3.1//EN
TZID:Europe/London
X-WR-TIMEZONE:Europe/London
BEGIN:VEVENT
UID:174@deeplypractices.co.uk
DTSTART;TZID=Europe/London:20251222T183000
DTEND;TZID=Europe/London:20251222T193000
DTSTAMP:20251209T170134Z
URL:https://deeplypractices.co.uk/events/monday-flow-vibe-align-2025-12-22
 /
SUMMARY:Monday Flow - Vibe & Align
DESCRIPTION:Experience the transformative power of our Monday Evening Yoga 
 class.\n\n"energy flows where your attention goes"\n\nEnergizing flows and
  mindful breathing unite to help you shake off the stress of the day and r
 estore your inner peace. This spiritually uplifting session invites you to
  fire up the body to dissolve tension\, recharge your energy and reconnect
  with yourself. Move with intention\, breathe deeply\, and set a harmoniou
 s tone for the week ahead.\n\nLet this class be your sanctuary of good vib
 es. Leave feeling refreshed\, revitalized\, and ready to embrace the rest 
 of the week with clarity and a renewed sense of balance.
ATTACH;FMTTYPE=image/jpeg:https://deeplypractices.co.uk/wp-content/uploads
 /2024/09/Neutral-Beige-and-Brown-Elegant-Seamless-Carousel-Instagram-Post-
 1.png
CATEGORIES:Classes,Yoga
LOCATION:Inglewood Studio\, 94 Lacey Green\, Wilmslow\, Cheshire\, SK9 4BN\
 , United Kingdom
GEO:53.337126;-2.226726
X-APPLE-STRUCTURED-LOCATION;VALUE=URI;X-ADDRESS=94 Lacey Green\, Wilmslow\,
  Cheshire\, SK9 4BN\, United Kingdom;X-APPLE-RADIUS=100;X-TITLE=Inglewood 
 Studio:geo:53.337126,-2.226726
END:VEVENT
BEGIN:VTIMEZONE
TZID:Europe/London
X-LIC-LOCATION:Europe/London
BEGIN:STANDARD
DTSTART:20251026T010000
TZOFFSETFROM:+0100
TZOFFSETTO:+0000
TZNAME:GMT
END:STANDARD
END:VTIMEZONE
END:VCALENDAR