BEGIN:VCALENDAR
VERSION:2.0
PRODID:-//wp-events-plugin.com//7.2.3.1//EN
TZID:Europe/London
X-WR-TIMEZONE:Europe/London
BEGIN:VEVENT
UID:94@deeplypractices.co.uk
DTSTART;TZID=Europe/London:20250607T090000
DTEND;TZID=Europe/London:20250607T101500
DTSTAMP:20241127T133426Z
URL:https://deeplypractices.co.uk/events/inner-sanctuary-guided-meditation
 -mindfulness-7th/
SUMMARY:Inner Sanctuary: Guided Meditation & Mindfulness
DESCRIPTION:Step into your Inner Sanctuary\, a guided meditation and mindfu
 lness class designed to help you reconnect with your true self.\n\nIn this
  peaceful space\, you’ll learn to tune out the external noise and listen
  deeply to your inner wisdom\, honoring what your gut already knows. Throu
 gh gentle guidance\, this practice helps you shift your energy\, free your
  mind from conflict\, and acknowledge what's asking to be heard. Spend tim
 e coming home to yourself\, finding connection\, clarity and peace within.
  Enjoy seasonal themes to this meditation journey.\n\n&nbsp\;\n\nThis clas
 s closes with a complementary herbal tea and the space for self-reflective
  journaling.\n\nPlease bring your journal or notepad with you and a jumper
  or blanket so that you're comfortable throughout the meditation.\n\n&nbsp
 \;
ATTACH;FMTTYPE=image/jpeg:https://deeplypractices.co.uk/wp-content/uploads
 /2024/09/Modern-Elegant-Circle-Signature-Typography-Logo.png
CATEGORIES:Classes,Events,Meditation,Seasonal
LOCATION:Inglewood Studio\, 94 Lacey Green\, Wilmslow\, Cheshire\, SK9 4BN\
 , United Kingdom
GEO:53.337126;-2.226726
X-APPLE-STRUCTURED-LOCATION;VALUE=URI;X-ADDRESS=94 Lacey Green\, Wilmslow\,
  Cheshire\, SK9 4BN\, United Kingdom;X-APPLE-RADIUS=100;X-TITLE=Inglewood 
 Studio:geo:53.337126,-2.226726
END:VEVENT
BEGIN:VTIMEZONE
TZID:Europe/London
X-LIC-LOCATION:Europe/London
BEGIN:DAYLIGHT
DTSTART:20250330T020000
TZOFFSETFROM:+0000
TZOFFSETTO:+0100
TZNAME:BST
END:DAYLIGHT
END:VTIMEZONE
END:VCALENDAR