BEGIN:VCALENDAR
VERSION:2.0
PRODID:-//wp-events-plugin.com//7.2.3.1//EN
TZID:Europe/London
X-WR-TIMEZONE:Europe/London
BEGIN:VEVENT
UID:438@deeplypractices.co.uk
DTSTART;TZID=Europe/London:20251219T093000
DTEND;TZID=Europe/London:20251219T103000
DTSTAMP:20260327T101904Z
URL:https://deeplypractices.co.uk/events/deeply-yoga-2025-12-19/
SUMMARY:Deeply Yoga
DESCRIPTION:Yoga the deeply way. Move the mind and body through a blend of 
 slow flowing Hatha yoga postures that ground you and close down your week 
 by releasing mental and physical tension.
ATTACH;FMTTYPE=image/jpeg:https://deeplypractices.co.uk/wp-content/uploads
 /2025/12/Event-posts-3.png
CATEGORIES:Classes,Yoga
LOCATION:Inglewood Studio\, 94 Lacey Green\, Wilmslow\, Cheshire\, SK9 4BN\
 , United Kingdom
GEO:53.337126;-2.226726
X-APPLE-STRUCTURED-LOCATION;VALUE=URI;X-ADDRESS=94 Lacey Green\, Wilmslow\,
  Cheshire\, SK9 4BN\, United Kingdom;X-APPLE-RADIUS=100;X-TITLE=Inglewood 
 Studio:geo:53.337126,-2.226726
END:VEVENT
BEGIN:VTIMEZONE
TZID:Europe/London
X-LIC-LOCATION:Europe/London
BEGIN:STANDARD
DTSTART:20251026T010000
TZOFFSETFROM:+0100
TZOFFSETTO:+0000
TZNAME:GMT
END:STANDARD
END:VTIMEZONE
END:VCALENDAR