BEGIN:VCALENDAR
VERSION:2.0
PRODID:-//wp-events-plugin.com//7.2.3.1//EN
TZID:Europe/London
X-WR-TIMEZONE:Europe/London
BEGIN:VEVENT
UID:385@deeplypractices.co.uk
DTSTART;TZID=Europe/London:20250728T093000
DTEND;TZID=Europe/London:20250728T153000
DTSTAMP:20250523T131503Z
URL:https://deeplypractices.co.uk/events/deeply-empowered-summer-camp-ages
 -6-10-28th/
SUMMARY:Deeply Empowered Summer Camp (Ages 6-10)
DESCRIPTION:Where movement\, mindfulness &amp\; meaningful play meet for a 
 joyful holistic experience\n\n🌞 The Empowered Kids Summer Camp (Ages 6
 –10) 🌿\n\nGet ready for a summer of movement\, creativity\, and meani
 ngful fun! The Empowered Kids Summer Camp is an unforgettable journey wher
 e children explore who they are\, what they can do\, and how to shine from
  the inside out.\n\nEach day is bursting with joyful activities that encou
 rage confidence\, creativity\, and calm\; from energizing movement to mind
 ful rest. Our days are built around play\, exploration\, and learning thro
 ugh experience\, offering children the chance to move their bodies\, open 
 their minds\, and connect with themselves and the world around them.\n\n
 ✨ What’s Inside the Camp?\n\n 	Yoga Adventures that spark imagination 
 while building strength\, balance\, and flexibility\n 	Pilates for Kids to
  discover their inner power\, core confidence\, and body awareness\n 	The 
 Power of Breath—fun\, calming\, and energizing practices that help child
 ren self-regulate and focus\n 	Somatic Movement &amp\; Dance—free\, expr
 essive movement to music\, promoting joy and emotional release\n 	Body Lis
 tening &amp\; Self-Connection—learning to tune in\, slow down\, and trus
 t their own inner voice\n 	Chi Gong &amp\; Grounding Practices—gentle\, 
 flowing movement that nurtures calm and balance\n 	Mindset Magic—playful
  lessons in shifting energy\, cultivating a positive outlook\, and harness
 ing their personal power\n 	Nature Connection—forest bathing\, nature wa
 lks\, outdoor play\, and grounding with the earth\n 	Creative Expression
 —journaling\, affirmations\, vision boards\, and expressive arts and cra
 fts that turn emotions into masterpieces\n 	Science &amp\; History facts
 —education and stories behind yoga\, pilates\, coaching &amp\; breathing
  for our nervous system\, emotions and brain\, and mindfulness that connec
 t children to ancient wisdom and modern discoveries\n\nEvery child is invi
 ted to explore\, express\, and expand—supported by a nurturing space tha
 t celebrates individuality\, encourages curiosity\, and plants seeds of re
 silience and self-love.\n\nThis isn’t just a summer camp—it’s an emp
 owering experience they’ll carry with them long after the sunshine fades
 .\n\nLet the adventure begin! 🌈🌳🧘‍♂️🎨\n\nFIND OUT MORE H
 ERE\n\nEach day will feature a different selection of content from the abo
 ve practices.\n\nSpaces are very limited to ensure each child gets the mos
 t out of their Deeply Practices experience.\n\nLed by Cat Sinton - qualifi
 ed and experienced Yoga\, Pilates and Life Coach. DBS checked.
ATTACH;FMTTYPE=image/jpeg:https://deeplypractices.co.uk/wp-content/uploads
 /2025/05/Brand-Kit-4.png
CATEGORIES:Events,Summer Camp
LOCATION:Inglewood Studio\, 94 Lacey Green\, Wilmslow\, Cheshire\, SK9 4BN\
 , United Kingdom
GEO:53.337126;-2.226726
X-APPLE-STRUCTURED-LOCATION;VALUE=URI;X-ADDRESS=94 Lacey Green\, Wilmslow\,
  Cheshire\, SK9 4BN\, United Kingdom;X-APPLE-RADIUS=100;X-TITLE=Inglewood 
 Studio:geo:53.337126,-2.226726
END:VEVENT
BEGIN:VTIMEZONE
TZID:Europe/London
X-LIC-LOCATION:Europe/London
BEGIN:DAYLIGHT
DTSTART:20250330T020000
TZOFFSETFROM:+0000
TZOFFSETTO:+0100
TZNAME:BST
END:DAYLIGHT
END:VTIMEZONE
END:VCALENDAR