BEGIN:VCALENDAR
VERSION:2.0
PRODID:-//wp-events-plugin.com//7.2.3.1//EN
TZID:Europe/London
X-WR-TIMEZONE:Europe/London
BEGIN:VEVENT
UID:455@deeplypractices.co.uk
DTSTART;TZID=Europe/London:20260114T190000
DTEND;TZID=Europe/London:20260114T211500
DTSTAMP:20251218T153700Z
URL:https://deeplypractices.co.uk/events/deep-reset-26-nov/
SUMMARY:Deep Reset
DESCRIPTION:A deeply restorative session rooted in slow flow\, yin yoga and
  breathwork practice for winding down the body and mind\, and resetting th
 e nervous system to combat the effects of modern day life.
ATTACH;FMTTYPE=image/jpeg:https://deeplypractices.co.uk/wp-content/uploads
 /2025/12/Event-posts-4.png
CATEGORIES:Classes,Deep Reset,Events
LOCATION:Inglewood Studio\, 94 Lacey Green\, Wilmslow\, Cheshire\, SK9 4BN\
 , United Kingdom
GEO:53.337126;-2.226726
X-APPLE-STRUCTURED-LOCATION;VALUE=URI;X-ADDRESS=94 Lacey Green\, Wilmslow\,
  Cheshire\, SK9 4BN\, United Kingdom;X-APPLE-RADIUS=100;X-TITLE=Inglewood 
 Studio:geo:53.337126,-2.226726
END:VEVENT
BEGIN:VTIMEZONE
TZID:Europe/London
X-LIC-LOCATION:Europe/London
BEGIN:STANDARD
DTSTART:20251026T010000
TZOFFSETFROM:+0100
TZOFFSETTO:+0000
TZNAME:GMT
END:STANDARD
END:VTIMEZONE
END:VCALENDAR