BEGIN:VCALENDAR
VERSION:2.0
PRODID:-//wp-events-plugin.com//7.2.3.1//EN
TZID:Europe/London
X-WR-TIMEZONE:Europe/London
BEGIN:VEVENT
UID:392@deeplypractices.co.uk
DTSTART;TZID=Europe/London:20251028T093000
DTEND;TZID=Europe/London:20251028T160000
DTSTAMP:20251007T151942Z
URL:https://deeplypractices.co.uk/events/childrens-day-retreat/
SUMMARY:Childrens Day Retreat (8-12)
DESCRIPTION:NEW OFFERING: A single day for children to come home to themse
 lves\; slow down\, decompress\, move their body mindfully and reconnect.
 \n\nThe faster we go\, the longer it takes to slow down. Give your child t
 he gift of knowing we're not designed to be 'on' all the time and there's 
 great power in the stillness. This day creates space in your child's half 
 term for them to relax and release\, and learn tools for finding their own
  calm in the busy everyday.\n\nDesigned specifically for children aged 8-1
 2\, this soothing day will allow the space for children to down-regulate f
 rom their everyday lives. A thoughtfully immersive session that supports s
 elf enquiry\, relaxation\, confidence and release.\n\nChildren will experi
 ence a blend of grounding practices\, mindfulness\, self reflections\, r
 estorative yoga\, breath-assisted stretches\, sound bath journey\, visua
 l journaling and life coaching\, nature connection\, breathing for anxiet
 y and sleep\, meditation and guided visualisation. They'll learn the ori
 gins and science behind these practices so they can understand as well as 
 feel the benefits.\n\n\n\nHealthy seasonal smoothies are included and crea
 tion of a take-home meditation eye pillow.\n\nEvery child is supported by 
 a nurturing space that celebrates individuality. Spaces are very limited t
 o ensure a bespoke experience so that they get the most out of their Deepl
 y Practices retreat day.\n\nThis isn’t a holiday camp—it’s an empowe
 ring and relaxing day to create inner calm\, instill wellbeing practices a
 nd mindful living.\n\nFIND OUT MORE HERE\n\n&nbsp\;\n\nLed by Cat Sinton -
  qualified and experienced Yoga\, Pilates and Life Coach. DBS checked.\n\n
 &nbsp\;
ATTACH;FMTTYPE=image/jpeg:https://deeplypractices.co.uk/wp-content/uploads
 /2025/10/Black-Elegant-New-Collection-Fashion-Brand-Website-Homepage-Banne
 r-1.png
CATEGORIES:Events
LOCATION:Inglewood Studio\, 94 Lacey Green\, Wilmslow\, Cheshire\, SK9 4BN\
 , United Kingdom
GEO:53.337126;-2.226726
X-APPLE-STRUCTURED-LOCATION;VALUE=URI;X-ADDRESS=94 Lacey Green\, Wilmslow\,
  Cheshire\, SK9 4BN\, United Kingdom;X-APPLE-RADIUS=100;X-TITLE=Inglewood 
 Studio:geo:53.337126,-2.226726
END:VEVENT
BEGIN:VTIMEZONE
TZID:Europe/London
X-LIC-LOCATION:Europe/London
BEGIN:STANDARD
DTSTART:20251026T010000
TZOFFSETFROM:+0100
TZOFFSETTO:+0000
TZNAME:GMT
END:STANDARD
END:VTIMEZONE
END:VCALENDAR